BEGIN:VCALENDAR
PRODID:sitf.georgia.gov
VERSION:2.0
CALSCALE:GREGORIAN
BEGIN:VEVENT
UID:c1f43a53c55fbcd96148b726c381c413
DTSTAMP:20260425T013026Z
SUMMARY:SITF Board of Trustees Meeting- Tuesday\, October 7\, 2025 1:00pm
DESCRIPTION:The Board of Trustees of the Subsequent Injury Trust Fund sched
 ules regular meetings on a quarterly basis\; special meetings are called 
 as needed. All board meetings are open to the public.\n\nThe next board me
 eting is scheduled to be held on Tuesday\, October 7\, 2025 at 1:00pm. The
  board meeting will be held at the Westin Jekyll Island\, 110 Ocean Way\, 
 Jekyll Island\, GA 31527. If you plan to attend\, please call (404) 656-71
 05.
URL:https://sitf.georgia.gov/events/2025-08-27/sitf-board-trustees-meeting
DTSTART;VALUE=DATE:20250827
LOCATION:270 Washington Street\, SW Suite 3001D  Atlanta\, GA 30334 US
X-LIC-LOCATION:America/New_York
X-WR-TIMEZONE:America/New_York
END:VEVENT
BEGIN:VTIMEZONE
TZID:America/New_York
END:VTIMEZONE
END:VCALENDAR
